Workbook

Sheet Datos Club
L1: AC Xaloc
L2: AD San Juan
L3: ADS Casablanca
L4: AE Bellsport
L5: Apnea Sevilla
L6: C Nereida Sub
L7: C Swim 04
L8: C Tritón EB
L9: CAA Baixo Miño
L10: CADAS
L11: CAS Kalista
L12: CB Galatea
... L45: FNDAS
E52: Control:
G59: Club:
G60: E-mail:
G61: Federación:
G65: Nombre:
G66: Dni / Licencia:
G67: E-mail:
G68: Tel. Contacto:
G72: Nombre:
G73: Dni / Licencia:
G74: E-mail:
G75: Tel. Contacto:
G79: Nombre:
... G82: Tel. Contacto:

Sheet Masculino
Z1: 1 | AH1: Pre-Sénior | AI1: 4 | AJ1: 25 | AK1: 50m SF
Z2: 2 | AH2: Sénior | AI2: 15 | AJ2: 36 | AK2: 100m SF
Z3: 3 | AI3: 8 | AJ3: 29 | AK3: 200m SF
AJ4: 21 | AK4: 400m SF
AJ5: 40 | AK5: 800m SF
AK6: 1500m SF
AI7: 6 | AJ7: 27 | AK7: 50m BF
AI8: 17 | AJ8: 38 | AK8: 100m BF
AI9: 10 | AJ9: 31 | AK9: 200m BF
AJ10: 42 | AK10: 400m BF
AI11: 19 | AJ11: 44 | AK11: 50m AP
AI12: 2 | AJ12: 23 | AK12: 100m IM
AJ13: 34 | AK13: 200m IM
AJ14: 12 | AK14: 400m IM
B18: Nombre: | G18: ='Datos Club'!L65 -> 0 | AN18: Nombre: | AS18: ='Datos Club'!L72 -> 0
B19: Dni / Licencia: | G19: ='Datos Club'!L66 -> 0 | AN19: Dni / Licencia: | AS19: ='Datos Club'!L73 -> 0
B20: E-mail: | G20: ='Datos Club'!L67 -> 0 | U20: Club: | Z20: ='Datos Club'!L59 -> 0 | AN20: E-mail: | AS20: ='Datos Club'!L74 -> 0
B21: Tel. Contacto: | G21: ='Datos Club'!L68 -> 0 | U21: Federación: | Z21: ='Datos Club'!L61 -> 0 | AN21: Tel. Contacto: | AS21: ='Datos Club'!L75 -> 0
R26: Control: | U26: ='Datos Club'!H52 -> 0
C28: D.N.I. | G28: Nombre | M28: Apellidos | W28: Año | Y28: Club | AD28: Federación | AI28: Categoría | AL28: Prueba | AY28: Tiempo de Ranking
AY29: mm | BA29: ss | BC29: 1/100
Y31: ='Datos Club'!$L$59 -> 0 | AD31: ='Datos Club'!$L$61 -> 0 | AJ31: M | AK31: 1ª
C32: =$C$31 -> 0 | G32: =$G$31 -> 0 | M32: =$M$31 -> 0 | W32: =$W$31 -> 0 | Y32: ='Datos Club'!$L$59 -> 0 | AD32: ='Datos Club'!$L$61 -> 0 | AI32: =AI31 -> 0 | AJ32: M | AK32: 2ª
C33: =$C$31 -> 0 | G33: =$G$31 -> 0 | M33: =$M$31 -> 0 | W33: =$W$31 -> 0 | Y33: ='Datos Club'!$L$59 -> 0 | AD33: ='Datos Club'!$L$61 -> 0 | AI33: =AI32 -> 0 | AJ33: M | AK33: 3ª
C34: =$C$31 -> 0 | G34: =$G$31 -> 0 | M34: =$M$31 -> 0 | W34: =$W$31 -> 0 | Y34: ='Datos Club'!$L$59 -> 0 | AD34: ='Datos Club'!$L$61 -> 0 | AI34: =AI33 -> 0 | AJ34: M | AK34: 4ª
C35: =$C$31 -> 0 | G35: =$G$31 -> 0 | M35: =$M$31 -> 0 | W35: =$W$31 -> 0 | Y35: ='Datos Club'!$L$59 -> 0 | AD35: ='Datos Club'!$L$61 -> 0 | AI35: =AI34 -> 0 | AJ35: M | AK35: 5ª
C36: =$C$31 -> 0 | G36: =$G$31 -> 0 | M36: =$M$31 -> 0 | W36: =$W$31 -> 0 | Y36: ='Datos Club'!$L$59 -> 0 | AD36: ='Datos Club'!$L$61 -> 0 | AI36: =AI35 -> 0 | AJ36: M | AK36: 6ª
C37: =$C$31 -> 0 | G37: =$G$31 -> 0 | M37: =$M$31 -> 0 | W37: =$W$31 -> 0 | Y37: ='Datos Club'!$L$59 -> 0 | AD37: ='Datos Club'!$L$61 -> 0 | AI37: =AI36 -> 0 | AJ37: M | AK37: 7ª
C38: =$C$31 -> 0 | G38: =$G$31 -> 0 | M38: =$M$31 -> 0 | W38: =$W$31 -> 0 | Y38: ='Datos Club'!$L$59 -> 0 | AD38: ='Datos Club'!$L$61 -> 0 | AI38: =AI37 -> 0 | AJ38: M | AK38: 8ª
AM40: Número de pruebas a NADAR
Y42: ='Datos Club'!$L$59 -> 0 | AD42: ='Datos Club'!$L$61 -> 0 | AJ42: M | AK42: 1ª
C43: =$C$42 -> 0 | G43: =$G$42 -> 0 | M43: =$M$42 -> 0 | W43: =$W$42 -> 0 | Y43: ='Datos Club'!$L$59 -> 0 | AD43: ='Datos Club'!$L$61 -> 0 | AI43: =AI42 -> 0 | AJ43: M | AK43: 2ª
C44: =$C$42 -> 0 | G44: =$G$42 -> 0 | M44: =$M$42 -> 0 | W44: =$W$42 -> 0 | Y44: ='Datos Club'!$L$59 -> 0 | AD44: ='Datos Club'!$L$61 -> 0 | AI44: =AI43 -> 0 | AJ44: M | AK44: 3ª
C45: =$C$42 -> 0 | G45: =$G$42 -> 0 | M45: =$M$42 -> 0 | W45: =$W$42 -> 0 | Y45: ='Datos Club'!$L$59 -> 0 | AD45: ='Datos Club'!$L$61 -> 0 | AI45: =AI44 -> 0 | AJ45: M | AK45: 4ª
C46: =$C$42 -> 0 | G46: =$G$42 -> 0 | M46: =$M$42 -> 0 | W46: =$W$42 -> 0 | Y46: ='Datos Club'!$L$59 -> 0 | AD46: ='Datos Club'!$L$61 -> 0 | AI46: =AI45 -> 0 | AJ46: M | AK46: 5ª
C47: =$C$42 -> 0 | G47: =$G$42 -> 0 | M47: =$M$42 -> 0 | W47: =$W$42 -> 0 | Y47: ='Datos Club'!$L$59 -> 0 | AD47: ='Datos Club'!$L$61 -> 0 | AI47: =AI46 -> 0 | AJ47: M | AK47: 6ª
C48: =$C$42 -> 0 | G48: =$G$42 -> 0 | M48: =$M$42 -> 0 | W48: =$W$42 -> 0 | Y48: ='Datos Club'!$L$59 -> 0 | AD48: ='Datos Club'!$L$61 -> 0 | AI48: =AI47 -> 0 | AJ48: M | AK48: 7ª
C49: =$C$42 -> 0 | G49: =$G$42 -> 0 | M49: =$M$42 -> 0 | W49: =$W$42 -> 0 | Y49: ='Datos Club'!$L$59 -> 0 | AD49: ='Datos Club'!$L$61 -> 0 | AI49: =AI48 -> 0 | AJ49: M | AK49: 8ª
AM51: Número de pruebas a NADAR
Y53: ='Datos Club'!$L$59 -> 0 | AD53: ='Datos Club'!$L$61 -> 0 | AJ53: M | AK53: 1ª
C54: =$C$53 -> 0 | G54: =$G$53 -> 0 | M54: =$M$53 -> 0 | W54: =$W$53 -> 0 | Y54: ='Datos Club'!$L$59 -> 0 | AD54: ='Datos Club'!$L$61 -> 0 | AI54: =AI53 -> 0 | AJ54: M | AK54: 2ª
C55: =$C$53 -> 0 | G55: =$G$53 -> 0 | M55: =$M$53 -> 0 | W55: =$W$53 -> 0 | Y55: ='Datos Club'!$L$59 -> 0 | AD55: ='Datos Club'!$L$61 -> 0 | AI55: =AI54 -> 0 | AJ55: M | AK55: 3ª
C56: =$C$53 -> 0 | G56: =$G$53 -> 0 | M56: =$M$53 -> 0 | W56: =$W$53 -> 0 | Y56: ='Datos Club'!$L$59 -> 0 | AD56: ='Datos Club'!$L$61 -> 0 | AI56: =AI55 -> 0 | AJ56: M | AK56: 4ª
C57: =$C$53 -> 0 | G57: =$G$53 -> 0 | M57: =$M$53 -> 0 | W57: =$W$53 -> 0 | Y57: ='Datos Club'!$L$59 -> 0 | AD57: ='Datos Club'!$L$61 -> 0 | AI57: =AI56 -> 0 | AJ57: M | AK57: 5ª
C58: =$C$53 -> 0 | G58: =$G$53 -> 0 | M58: =$M$53 -> 0 | W58: =$W$53 -> 0 | Y58: ='Datos Club'!$L$59 -> 0 | AD58: ='Datos Club'!$L$61 -> 0 | AI58: =AI57 -> 0 | AJ58: M | AK58: 6ª
C59: =$C$53 -> 0 | G59: =$G$53 -> 0 | M59: =$M$53 -> 0 | W59: =$W$53 -> 0 | Y59: ='Datos Club'!$L$59 -> 0 | AD59: ='Datos Club'!$L$61 -> 0 | AI59: =AI58 -> 0 | AJ59: M | AK59: 7ª
C60: =$C$53 -> 0 | G60: =$G$53 -> 0 | M60: =$M$53 -> 0 | W60: =$W$53 -> 0 | Y60: ='Datos Club'!$L$59 -> 0 | AD60: ='Datos Club'!$L$61 -> 0 | AI60: =AI59 -> 0 | AJ60: M | AK60: 8ª
AM62: Número de pruebas a NADAR
Y64: ='Datos Club'!$L$59 -> 0 | AD64: ='Datos Club'!$L$61 -> 0 | AJ64: M | AK64: 1ª
C65: =$C$64 -> 0 | G65: =$G$64 -> 0 | M65: =$M$64 -> 0 | W65: =$W$64 -> 0 | Y65: ='Datos Club'!$L$59 -> 0 | AD65: ='Datos Club'!$L$61 -> 0 | AI65: =AI64 -> 0 | AJ65: M | AK65: 2ª
C66: =$C$64 -> 0 | G66: =$G$64 -> 0 | M66: =$M$64 -> 0 | W66: =$W$64 -> 0 | Y66: ='Datos Club'!$L$59 -> 0 | AD66: ='Datos Club'!$L$61 -> 0 | AI66: =AI65 -> 0 | AJ66: M | AK66: 3ª
C67: =$C$64 -> 0 | G67: =$G$64 -> 0 | M67: =$M$64 -> 0 | W67: =$W$64 -> 0 | Y67: ='Datos Club'!$L$59 -> 0 | AD67: ='Datos Club'!$L$61 -> 0 | AI67: =AI66 -> 0 | AJ67: M | AK67: 4ª
C68: =$C$64 -> 0 | G68: =$G$64 -> 0 | M68: =$M$64 -> 0 | W68: =$W$64 -> 0 | Y68: ='Datos Club'!$L$59 -> 0 | AD68: ='Datos Club'!$L$61 -> 0 | AI68: =AI67 -> 0 | AJ68: M | AK68: 5ª
C69: =$C$64 -> 0 | G69: =$G$64 -> 0 | M69: =$M$64 -> 0 | W69: =$W$64 -> 0 | Y69: ='Datos Club'!$L$59 -> 0 | AD69: ='Datos Club'!$L$61 -> 0 | AI69: =AI68 -> 0 | AJ69: M | AK69: 6ª
C70: =$C$64 -> 0 | G70: =$G$64 -> 0 | M70: =$M$64 -> 0 | W70: =$W$64 -> 0 | Y70: ='Datos Club'!$L$59 -> 0 | AD70: ='Datos Club'!$L$61 -> 0 | AI70: =AI69 -> 0 | AJ70: M | AK70: 7ª
C71: =$C$64 -> 0 | G71: =$G$64 -> 0 | M71: =$M$64 -> 0 | W71: =$W$64 -> 0 | Y71: ='Datos Club'!$L$59 -> 0 | AD71: ='Datos Club'!$L$61 -> 0 | AI71: =AI70 -> 0 | AJ71: M | AK71: 8ª
AM73: Número de pruebas a NADAR
Y75: ='Datos Club'!$L$59 -> 0 | AD75: ='Datos Club'!$L$61 -> 0 | AJ75: M | AK75: 1ª
C76: =$C$75 -> 0 | G76: =$G$75 -> 0 | M76: =$M$75 -> 0 | W76: =$W$75 -> 0 | Y76: ='Datos Club'!$L$59 -> 0 | AD76: ='Datos Club'!$L$61 -> 0 | AI76: =AI75 -> 0 | AJ76: M | AK76: 2ª
C77: =$C$75 -> 0 | G77: =$G$75 -> 0 | M77: =$M$75 -> 0 | W77: =$W$75 -> 0 | Y77: ='Datos Club'!$L$59 -> 0 | AD77: ='Datos Club'!$L$61 -> 0 | AI77: =AI76 -> 0 | AJ77: M | AK77: 3ª
C78: =$C$75 -> 0 | G78: =$G$75 -> 0 | M78: =$M$75 -> 0 | W78: =$W$75 -> 0 | Y78: ='Datos Club'!$L$59 -> 0 | AD78: ='Datos Club'!$L$61 -> 0 | AI78: =AI77 -> 0 | AJ78: M | AK78: 4ª
C79: =$C$75 -> 0 | G79: =$G$75 -> 0 | M79: =$M$75 -> 0 | W79: =$W$75 -> 0 | Y79: ='Datos Club'!$L$59 -> 0 | AD79: ='Datos Club'!$L$61 -> 0 | AI79: =AI78 -> 0 | AJ79: M | AK79: 5ª
C80: =$C$75 -> 0 | G80: =$G$75 -> 0 | M80: =$M$75 -> 0 | W80: =$W$75 -> 0 | Y80: ='Datos Club'!$L$59 -> 0 | AD80: ='Datos Club'!$L$61 -> 0 | AI80: =AI79 -> 0 | AJ80: M | AK80: 6ª
C81: =$C$75 -> 0 | G81: =$G$75 -> 0 | M81: =$M$75 -> 0 | W81: =$W$75 -> 0 | Y81: ='Datos Club'!$L$59 -> 0 | AD81: ='Datos Club'!$L$61 -> 0 | AI81: =AI80 -> 0 | AJ81: M | AK81: 7ª
C82: =$C$75 -> 0 | G82: =$G$75 -> 0 | M82: =$M$75 -> 0 | W82: =$W$75 -> 0 | Y82: ='Datos Club'!$L$59 -> 0 | AD82: ='Datos Club'!$L$61 -> 0 | AI82: =AI81 -> 0 | AJ82: M | AK82: 8ª
AM84: Número de pruebas a NADAR
Y86: ='Datos Club'!$L$59 -> 0 | AD86: ='Datos Club'!$L$61 -> 0 | AJ86: M | AK86: 1ª
C87: =$C$86 -> 0 | G87: =$G$86 -> 0 | M87: =$M$86 -> 0 | W87: =$W$86 -> 0 | Y87: ='Datos Club'!$L$59 -> 0 | AD87: ='Datos Club'!$L$61 -> 0 | AI87: =AI86 -> 0 | AJ87: M | AK87: 2ª
C88: =$C$86 -> 0 | G88: =$G$86 -> 0 | M88: =$M$86 -> 0 | W88: =$W$86 -> 0 | Y88: ='Datos Club'!$L$59 -> 0 | AD88: ='Datos Club'!$L$61 -> 0 | AI88: =AI87 -> 0 | AJ88: M | AK88: 3ª
C89: =$C$86 -> 0 | G89: =$G$86 -> 0 | M89: =$M$86 -> 0 | W89: =$W$86 -> 0 | Y89: ='Datos Club'!$L$59 -> 0 | AD89: ='Datos Club'!$L$61 -> 0 | AI89: =AI88 -> 0 | AJ89: M | AK89: 4ª
C90: =$C$86 -> 0 | G90: =$G$86 -> 0 | M90: =$M$86 -> 0 | W90: =$W$86 -> 0 | Y90: ='Datos Club'!$L$59 -> 0 | AD90: ='Datos Club'!$L$61 -> 0 | AI90: =AI89 -> 0 | AJ90: M | AK90: 5ª
C91: =$C$86 -> 0 | G91: =$G$86 -> 0 | M91: =$M$86 -> 0 | W91: =$W$86 -> 0 | Y91: ='Datos Club'!$L$59 -> 0 | AD91: ='Datos Club'!$L$61 -> 0 | AI91: =AI90 -> 0 | AJ91: M | AK91: 6ª
C92: =$C$86 -> 0 | G92: =$G$86 -> 0 | M92: =$M$86 -> 0 | W92: =$W$86 -> 0 | Y92: ='Datos Club'!$L$59 -> 0 | AD92: ='Datos Club'!$L$61 -> 0 | AI92: =AI91 -> 0 | AJ92: M | AK92: 7ª
C93: =$C$86 -> 0 | G93: =$G$86 -> 0 | M93: =$M$86 -> 0 | W93: =$W$86 -> 0 | Y93: ='Datos Club'!$L$59 -> 0 | AD93: ='Datos Club'!$L$61 -> 0 | AI93: =AI92 -> 0 | AJ93: M | AK93: 8ª
AM95: Número de pruebas a NADAR
Y97: ='Datos Club'!$L$59 -> 0 | AD97: ='Datos Club'!$L$61 -> 0 | AJ97: M | AK97: 1ª
C98: =$C$97 -> 0 | G98: =$G$97 -> 0 | M98: =$M$97 -> 0 | W98: =$W$97 -> 0 | Y98: ='Datos Club'!$L$59 -> 0 | AD98: ='Datos Club'!$L$61 -> 0 | AI98: =AI97 -> 0 | AJ98: M | AK98: 2ª
C99: =$C$97 -> 0 | G99: =$G$97 -> 0 | M99: =$M$97 -> 0 | W99: =$W$97 -> 0 | Y99: ='Datos Club'!$L$59 -> 0 | AD99: ='Datos Club'!$L$61 -> 0 | AI99: =AI98 -> 0 | AJ99: M | AK99: 3ª
C100: =$C$97 -> 0 | G100: =$G$97 -> 0 | M100: =$M$97 -> 0 | W100: =$W$97 -> 0 | Y100: ='Datos Club'!$L$59 -> 0 | AD100: ='Datos Club'!$L$61 -> 0 | AI100: =AI99 -> 0 | AJ100: M | AK100: 4ª
C101: =$C$97 -> 0 | G101: =$G$97 -> 0 | M101: =$M$97 -> 0 | W101: =$W$97 -> 0 | Y101: ='Datos Club'!$L$59 -> 0 | AD101: ='Datos Club'!$L$61 -> 0 | AI101: =AI100 -> 0 | AJ101: M | AK101: 5ª
C102: =$C$97 -> 0 | G102: =$G$97 -> 0 | M102: =$M$97 -> 0 | W102: =$W$97 -> 0 | Y102: ='Datos Club'!$L$59 -> 0 | AD102: ='Datos Club'!$L$61 -> 0 | AI102: =AI101 -> 0 | AJ102: M | AK102: 6ª
C103: =$C$97 -> 0 | G103: =$G$97 -> 0 | M103: =$M$97 -> 0 | W103: =$W$97 -> 0 | Y103: ='Datos Club'!$L$59 -> 0 | AD103: ='Datos Club'!$L$61 -> 0 | AI103: =AI102 -> 0 | AJ103: M | AK103: 7ª
C104: =$C$97 -> 0 | G104: =$G$97 -> 0 | M104: =$M$97 -> 0 | W104: =$W$97 -> 0 | Y104: ='Datos Club'!$L$59 -> 0 | AD104: ='Datos Club'!$L$61 -> 0 | AI104: =AI103 -> 0 | AJ104: M | AK104: 8ª
AM106: Número de pruebas a NADAR
Y108: ='Datos Club'!$L$59 -> 0 | AD108: ='Datos Club'!$L$61 -> 0 | AJ108: M | AK108: 1ª
C109: =$C$108 -> 0 | G109: =$G$108 -> 0 | M109: =$M$108 -> 0 | W109: =$W$108 -> 0 | Y109: ='Datos Club'!$L$59 -> 0 | AD109: ='Datos Club'!$L$61 -> 0 | AI109: =AI108 -> 0 | AJ109: M | AK109: 2ª
C110: =$C$108 -> 0 | G110: =$G$108 -> 0 | M110: =$M$108 -> 0 | W110: =$W$108 -> 0 | Y110: ='Datos Club'!$L$59 -> 0 | AD110: ='Datos Club'!$L$61 -> 0 | AI110: =AI109 -> 0 | AJ110: M | AK110: 3ª
C111: =$C$108 -> 0 | G111: =$G$108 -> 0 | M111: =$M$108 -> 0 | W111: =$W$108 -> 0 | Y111: ='Datos Club'!$L$59 -> 0 | AD111: ='Datos Club'!$L$61 -> 0 | AI111: =AI110 -> 0 | AJ111: M | AK111: 4ª
C112: =$C$108 -> 0 | G112: =$G$108 -> 0 | M112: =$M$108 -> 0 | W112: =$W$108 -> 0 | Y112: ='Datos Club'!$L$59 -> 0 | AD112: ='Datos Club'!$L$61 -> 0 | AI112: =AI111 -> 0 | AJ112: M | AK112: 5ª
C113: =$C$108 -> 0 | G113: =$G$108 -> 0 | M113: =$M$108 -> 0 | W113: =$W$108 -> 0 | Y113: ='Datos Club'!$L$59 -> 0 | AD113: ='Datos Club'!$L$61 -> 0 | AI113: =AI112 -> 0 | AJ113: M | AK113: 6ª
C114: =$C$108 -> 0 | G114: =$G$108 -> 0 | M114: =$M$108 -> 0 | W114: =$W$108 -> 0 | Y114: ='Datos Club'!$L$59 -> 0 | AD114: ='Datos Club'!$L$61 -> 0 | AI114: =AI113 -> 0 | AJ114: M | AK114: 7ª
C115: =$C$108 -> 0 | G115: =$G$108 -> 0 | M115: =$M$108 -> 0 | W115: =$W$108 -> 0 | Y115: ='Datos Club'!$L$59 -> 0 | AD115: ='Datos Club'!$L$61 -> 0 | AI115: =AI114 -> 0 | AJ115: M | AK115: 8ª
AM117: Número de pruebas a NADAR
Y119: ='Datos Club'!$L$59 -> 0 | AD119: ='Datos Club'!$L$61 -> 0 | AJ119: M | AK119: 1ª
C120: =$C$119 -> 0 | G120: =$G$119 -> 0 | M120: =$M$119 -> 0 | W120: =$W$119 -> 0 | Y120: ='Datos Club'!$L$59 -> 0 | AD120: ='Datos Club'!$L$61 -> 0 | AI120: =AI119 -> 0 | AJ120: M | AK120: 2ª
C121: =$C$119 -> 0 | G121: =$G$119 -> 0 | M121: =$M$119 -> 0 | W121: =$W$119 -> 0 | Y121: ='Datos Club'!$L$59 -> 0 | AD121: ='Datos Club'!$L$61 -> 0 | AI121: =AI120 -> 0 | AJ121: M | AK121: 3ª
C122: =$C$119 -> 0 | G122: =$G$119 -> 0 | M122: =$M$119 -> 0 | W122: =$W$119 -> 0 | Y122: ='Datos Club'!$L$59 -> 0 | AD122: ='Datos Club'!$L$61 -> 0 | AI122: =AI121 -> 0 | AJ122: M | AK122: 4ª
C123: =$C$119 -> 0 | G123: =$G$119 -> 0 | M123: =$M$119 -> 0 | W123: =$W$119 -> 0 | Y123: ='Datos Club'!$L$59 -> 0 | AD123: ='Datos Club'!$L$61 -> 0 | AI123: =AI122 -> 0 | AJ123: M | AK123: 5ª
C124: =$C$119 -> 0 | G124: =$G$119 -> 0 | M124: =$M$119 -> 0 | W124: =$W$119 -> 0 | Y124: ='Datos Club'!$L$59 -> 0 | AD124: ='Datos Club'!$L$61 -> 0 | AI124: =AI123 -> 0 | AJ124: M | AK124: 6ª
C125: =$C$119 -> 0 | G125: =$G$119 -> 0 | M125: =$M$119 -> 0 | W125: =$W$119 -> 0 | Y125: ='Datos Club'!$L$59 -> 0 | AD125: ='Datos Club'!$L$61 -> 0 | AI125: =AI124 -> 0 | AJ125: M | AK125: 7ª
...

Sheet Femenino
Z1: 1 | AH1: Pre-Sénior | AI1: 4 | AJ1: 25 | AK1: 50m SF
Z2: 2 | AH2: Sénior | AI2: 15 | AJ2: 36 | AK2: 100m SF
Z3: 3 | AI3: 8 | AJ3: 29 | AK3: 200m SF
AJ4: 21 | AK4: 400m SF
AJ5: 40 | AK5: 800m SF
AK6: 1500m SF
AI7: 6 | AJ7: 27 | AK7: 50m BF
AI8: 17 | AJ8: 38 | AK8: 100m BF
AI9: 10 | AJ9: 31 | AK9: 200m BF
AJ10: 42 | AK10: 400m BF
AI11: 19 | AJ11: 44 | AK11: 50m AP
AI12: 2 | AJ12: 23 | AK12: 100m IM
AJ13: 34 | AK13: 200m IM
AJ14: 12 | AK14: 400m IM
B18: Nombre: | G18: ='Datos Club'!L65 -> 0 | AN18: Nombre: | AS18: ='Datos Club'!L72 -> 0
B19: Dni / Licencia: | G19: ='Datos Club'!L66 -> 0 | AN19: Dni / Licencia: | AS19: ='Datos Club'!L73 -> 0
B20: E-mail: | G20: ='Datos Club'!L67 -> 0 | U20: Club: | Z20: ='Datos Club'!L59 -> 0 | AN20: E-mail: | AS20: ='Datos Club'!L74 -> 0
B21: Tel. Contacto: | G21: ='Datos Club'!L68 -> 0 | U21: Federación: | Z21: ='Datos Club'!L61 -> 0 | AN21: Tel. Contacto: | AS21: ='Datos Club'!L75 -> 0
R26: Control: | U26: ='Datos Club'!H52 -> 0
C28: D.N.I. | G28: Nombre | M28: Apellidos | W28: Año | Y28: Club | AD28: Federación | AI28: Categoría | AL28: Prueba | AY28: Tiempo de Ranking
AY29: mm | BA29: ss | BC29: 1/100
Y31: ='Datos Club'!$L$59 -> 0 | AD31: ='Datos Club'!$L$61 -> 0 | AJ31: F | AK31: 1ª
C32: =$C$31 -> 0 | G32: =$G$31 -> 0 | M32: =$M$31 -> 0 | W32: =$W$31 -> 0 | Y32: ='Datos Club'!$L$59 -> 0 | AD32: ='Datos Club'!$L$61 -> 0 | AI32: =AI31 -> 0 | AJ32: F | AK32: 2ª
C33: =$C$31 -> 0 | G33: =$G$31 -> 0 | M33: =$M$31 -> 0 | W33: =$W$31 -> 0 | Y33: ='Datos Club'!$L$59 -> 0 | AD33: ='Datos Club'!$L$61 -> 0 | AI33: =AI32 -> 0 | AJ33: F | AK33: 3ª
C34: =$C$31 -> 0 | G34: =$G$31 -> 0 | M34: =$M$31 -> 0 | W34: =$W$31 -> 0 | Y34: ='Datos Club'!$L$59 -> 0 | AD34: ='Datos Club'!$L$61 -> 0 | AI34: =AI33 -> 0 | AJ34: F | AK34: 4ª
C35: =$C$31 -> 0 | G35: =$G$31 -> 0 | M35: =$M$31 -> 0 | W35: =$W$31 -> 0 | Y35: ='Datos Club'!$L$59 -> 0 | AD35: ='Datos Club'!$L$61 -> 0 | AI35: =AI34 -> 0 | AJ35: F | AK35: 5ª
C36: =$C$31 -> 0 | G36: =$G$31 -> 0 | M36: =$M$31 -> 0 | W36: =$W$31 -> 0 | Y36: ='Datos Club'!$L$59 -> 0 | AD36: ='Datos Club'!$L$61 -> 0 | AI36: =AI35 -> 0 | AJ36: F | AK36: 6ª
C37: =$C$31 -> 0 | G37: =$G$31 -> 0 | M37: =$M$31 -> 0 | W37: =$W$31 -> 0 | Y37: ='Datos Club'!$L$59 -> 0 | AD37: ='Datos Club'!$L$61 -> 0 | AI37: =AI36 -> 0 | AJ37: F | AK37: 7ª
C38: =$C$31 -> 0 | G38: =$G$31 -> 0 | M38: =$M$31 -> 0 | W38: =$W$31 -> 0 | Y38: ='Datos Club'!$L$59 -> 0 | AD38: ='Datos Club'!$L$61 -> 0 | AI38: =AI37 -> 0 | AJ38: F | AK38: 8ª
AM40: Número de pruebas a NADAR
Y42: ='Datos Club'!$L$59 -> 0 | AD42: ='Datos Club'!$L$61 -> 0 | AJ42: F | AK42: 1ª
C43: =$C$42 -> 0 | G43: =$G$42 -> 0 | M43: =$M$42 -> 0 | W43: =$W$42 -> 0 | Y43: ='Datos Club'!$L$59 -> 0 | AD43: ='Datos Club'!$L$61 -> 0 | AI43: =AI42 -> 0 | AJ43: F | AK43: 2ª
C44: =$C$42 -> 0 | G44: =$G$42 -> 0 | M44: =$M$42 -> 0 | W44: =$W$42 -> 0 | Y44: ='Datos Club'!$L$59 -> 0 | AD44: ='Datos Club'!$L$61 -> 0 | AI44: =AI43 -> 0 | AJ44: F | AK44: 3ª
C45: =$C$42 -> 0 | G45: =$G$42 -> 0 | M45: =$M$42 -> 0 | W45: =$W$42 -> 0 | Y45: ='Datos Club'!$L$59 -> 0 | AD45: ='Datos Club'!$L$61 -> 0 | AI45: =AI44 -> 0 | AJ45: F | AK45: 4ª
C46: =$C$42 -> 0 | G46: =$G$42 -> 0 | M46: =$M$42 -> 0 | W46: =$W$42 -> 0 | Y46: ='Datos Club'!$L$59 -> 0 | AD46: ='Datos Club'!$L$61 -> 0 | AI46: =AI45 -> 0 | AJ46: F | AK46: 5ª
C47: =$C$42 -> 0 | G47: =$G$42 -> 0 | M47: =$M$42 -> 0 | W47: =$W$42 -> 0 | Y47: ='Datos Club'!$L$59 -> 0 | AD47: ='Datos Club'!$L$61 -> 0 | AI47: =AI46 -> 0 | AJ47: F | AK47: 6ª
C48: =$C$42 -> 0 | G48: =$G$42 -> 0 | M48: =$M$42 -> 0 | W48: =$W$42 -> 0 | Y48: ='Datos Club'!$L$59 -> 0 | AD48: ='Datos Club'!$L$61 -> 0 | AI48: =AI47 -> 0 | AJ48: F | AK48: 7ª
C49: =$C$42 -> 0 | G49: =$G$42 -> 0 | M49: =$M$42 -> 0 | W49: =$W$42 -> 0 | Y49: ='Datos Club'!$L$59 -> 0 | AD49: ='Datos Club'!$L$61 -> 0 | AI49: =AI48 -> 0 | AJ49: F | AK49: 8ª
AM51: Número de pruebas a NADAR
Y53: ='Datos Club'!$L$59 -> 0 | AD53: ='Datos Club'!$L$61 -> 0 | AJ53: F | AK53: 1ª
C54: =$C$53 -> 0 | G54: =$G$53 -> 0 | M54: =$M$53 -> 0 | W54: =$W$53 -> 0 | Y54: ='Datos Club'!$L$59 -> 0 | AD54: ='Datos Club'!$L$61 -> 0 | AI54: =AI53 -> 0 | AJ54: F | AK54: 2ª
C55: =$C$53 -> 0 | G55: =$G$53 -> 0 | M55: =$M$53 -> 0 | W55: =$W$53 -> 0 | Y55: ='Datos Club'!$L$59 -> 0 | AD55: ='Datos Club'!$L$61 -> 0 | AI55: =AI54 -> 0 | AJ55: F | AK55: 3ª
C56: =$C$53 -> 0 | G56: =$G$53 -> 0 | M56: =$M$53 -> 0 | W56: =$W$53 -> 0 | Y56: ='Datos Club'!$L$59 -> 0 | AD56: ='Datos Club'!$L$61 -> 0 | AI56: =AI55 -> 0 | AJ56: F | AK56: 4ª
C57: =$C$53 -> 0 | G57: =$G$53 -> 0 | M57: =$M$53 -> 0 | W57: =$W$53 -> 0 | Y57: ='Datos Club'!$L$59 -> 0 | AD57: ='Datos Club'!$L$61 -> 0 | AI57: =AI56 -> 0 | AJ57: F | AK57: 5ª
C58: =$C$53 -> 0 | G58: =$G$53 -> 0 | M58: =$M$53 -> 0 | W58: =$W$53 -> 0 | Y58: ='Datos Club'!$L$59 -> 0 | AD58: ='Datos Club'!$L$61 -> 0 | AI58: =AI57 -> 0 | AJ58: F | AK58: 6ª
C59: =$C$53 -> 0 | G59: =$G$53 -> 0 | M59: =$M$53 -> 0 | W59: =$W$53 -> 0 | Y59: ='Datos Club'!$L$59 -> 0 | AD59: ='Datos Club'!$L$61 -> 0 | AI59: =AI58 -> 0 | AJ59: F | AK59: 7ª
C60: =$C$53 -> 0 | G60: =$G$53 -> 0 | M60: =$M$53 -> 0 | W60: =$W$53 -> 0 | Y60: ='Datos Club'!$L$59 -> 0 | AD60: ='Datos Club'!$L$61 -> 0 | AI60: =AI59 -> 0 | AJ60: F | AK60: 8ª
AM62: Número de pruebas a NADAR
Y64: ='Datos Club'!$L$59 -> 0 | AD64: ='Datos Club'!$L$61 -> 0 | AJ64: F | AK64: 1ª
C65: =$C$64 -> 0 | G65: =$G$64 -> 0 | M65: =$M$64 -> 0 | W65: =$W$64 -> 0 | Y65: ='Datos Club'!$L$59 -> 0 | AD65: ='Datos Club'!$L$61 -> 0 | AI65: =AI64 -> 0 | AJ65: F | AK65: 2ª
C66: =$C$64 -> 0 | G66: =$G$64 -> 0 | M66: =$M$64 -> 0 | W66: =$W$64 -> 0 | Y66: ='Datos Club'!$L$59 -> 0 | AD66: ='Datos Club'!$L$61 -> 0 | AI66: =AI65 -> 0 | AJ66: F | AK66: 3ª
C67: =$C$64 -> 0 | G67: =$G$64 -> 0 | M67: =$M$64 -> 0 | W67: =$W$64 -> 0 | Y67: ='Datos Club'!$L$59 -> 0 | AD67: ='Datos Club'!$L$61 -> 0 | AI67: =AI66 -> 0 | AJ67: F | AK67: 4ª
C68: =$C$64 -> 0 | G68: =$G$64 -> 0 | M68: =$M$64 -> 0 | W68: =$W$64 -> 0 | Y68: ='Datos Club'!$L$59 -> 0 | AD68: ='Datos Club'!$L$61 -> 0 | AI68: =AI67 -> 0 | AJ68: F | AK68: 5ª
C69: =$C$64 -> 0 | G69: =$G$64 -> 0 | M69: =$M$64 -> 0 | W69: =$W$64 -> 0 | Y69: ='Datos Club'!$L$59 -> 0 | AD69: ='Datos Club'!$L$61 -> 0 | AI69: =AI68 -> 0 | AJ69: F | AK69: 6ª
C70: =$C$64 -> 0 | G70: =$G$64 -> 0 | M70: =$M$64 -> 0 | W70: =$W$64 -> 0 | Y70: ='Datos Club'!$L$59 -> 0 | AD70: ='Datos Club'!$L$61 -> 0 | AI70: =AI69 -> 0 | AJ70: F | AK70: 7ª
C71: =$C$64 -> 0 | G71: =$G$64 -> 0 | M71: =$M$64 -> 0 | W71: =$W$64 -> 0 | Y71: ='Datos Club'!$L$59 -> 0 | AD71: ='Datos Club'!$L$61 -> 0 | AI71: =AI70 -> 0 | AJ71: F | AK71: 8ª
AM73: Número de pruebas a NADAR
Y75: ='Datos Club'!$L$59 -> 0 | AD75: ='Datos Club'!$L$61 -> 0 | AJ75: F | AK75: 1ª
C76: =$C$75 -> 0 | G76: =$G$75 -> 0 | M76: =$M$75 -> 0 | W76: =$W$75 -> 0 | Y76: ='Datos Club'!$L$59 -> 0 | AD76: ='Datos Club'!$L$61 -> 0 | AI76: =AI75 -> 0 | AJ76: F | AK76: 2ª
C77: =$C$75 -> 0 | G77: =$G$75 -> 0 | M77: =$M$75 -> 0 | W77: =$W$75 -> 0 | Y77: ='Datos Club'!$L$59 -> 0 | AD77: ='Datos Club'!$L$61 -> 0 | AI77: =AI76 -> 0 | AJ77: F | AK77: 3ª
C78: =$C$75 -> 0 | G78: =$G$75 -> 0 | M78: =$M$75 -> 0 | W78: =$W$75 -> 0 | Y78: ='Datos Club'!$L$59 -> 0 | AD78: ='Datos Club'!$L$61 -> 0 | AI78: =AI77 -> 0 | AJ78: F | AK78: 4ª
C79: =$C$75 -> 0 | G79: =$G$75 -> 0 | M79: =$M$75 -> 0 | W79: =$W$75 -> 0 | Y79: ='Datos Club'!$L$59 -> 0 | AD79: ='Datos Club'!$L$61 -> 0 | AI79: =AI78 -> 0 | AJ79: F | AK79: 5ª
C80: =$C$75 -> 0 | G80: =$G$75 -> 0 | M80: =$M$75 -> 0 | W80: =$W$75 -> 0 | Y80: ='Datos Club'!$L$59 -> 0 | AD80: ='Datos Club'!$L$61 -> 0 | AI80: =AI79 -> 0 | AJ80: F | AK80: 6ª
C81: =$C$75 -> 0 | G81: =$G$75 -> 0 | M81: =$M$75 -> 0 | W81: =$W$75 -> 0 | Y81: ='Datos Club'!$L$59 -> 0 | AD81: ='Datos Club'!$L$61 -> 0 | AI81: =AI80 -> 0 | AJ81: F | AK81: 7ª
C82: =$C$75 -> 0 | G82: =$G$75 -> 0 | M82: =$M$75 -> 0 | W82: =$W$75 -> 0 | Y82: ='Datos Club'!$L$59 -> 0 | AD82: ='Datos Club'!$L$61 -> 0 | AI82: =AI81 -> 0 | AJ82: F | AK82: 8ª
AM84: Número de pruebas a NADAR
Y86: ='Datos Club'!$L$59 -> 0 | AD86: ='Datos Club'!$L$61 -> 0 | AJ86: F | AK86: 1ª
C87: =$C$86 -> 0 | G87: =$G$86 -> 0 | M87: =$M$86 -> 0 | W87: =$W$86 -> 0 | Y87: ='Datos Club'!$L$59 -> 0 | AD87: ='Datos Club'!$L$61 -> 0 | AI87: =AI86 -> 0 | AJ87: F | AK87: 2ª
C88: =$C$86 -> 0 | G88: =$G$86 -> 0 | M88: =$M$86 -> 0 | W88: =$W$86 -> 0 | Y88: ='Datos Club'!$L$59 -> 0 | AD88: ='Datos Club'!$L$61 -> 0 | AI88: =AI87 -> 0 | AJ88: F | AK88: 3ª
C89: =$C$86 -> 0 | G89: =$G$86 -> 0 | M89: =$M$86 -> 0 | W89: =$W$86 -> 0 | Y89: ='Datos Club'!$L$59 -> 0 | AD89: ='Datos Club'!$L$61 -> 0 | AI89: =AI88 -> 0 | AJ89: F | AK89: 4ª
C90: =$C$86 -> 0 | G90: =$G$86 -> 0 | M90: =$M$86 -> 0 | W90: =$W$86 -> 0 | Y90: ='Datos Club'!$L$59 -> 0 | AD90: ='Datos Club'!$L$61 -> 0 | AI90: =AI89 -> 0 | AJ90: F | AK90: 5ª
C91: =$C$86 -> 0 | G91: =$G$86 -> 0 | M91: =$M$86 -> 0 | W91: =$W$86 -> 0 | Y91: ='Datos Club'!$L$59 -> 0 | AD91: ='Datos Club'!$L$61 -> 0 | AI91: =AI90 -> 0 | AJ91: F | AK91: 6ª
C92: =$C$86 -> 0 | G92: =$G$86 -> 0 | M92: =$M$86 -> 0 | W92: =$W$86 -> 0 | Y92: ='Datos Club'!$L$59 -> 0 | AD92: ='Datos Club'!$L$61 -> 0 | AI92: =AI91 -> 0 | AJ92: F | AK92: 7ª
C93: =$C$86 -> 0 | G93: =$G$86 -> 0 | M93: =$M$86 -> 0 | W93: =$W$86 -> 0 | Y93: ='Datos Club'!$L$59 -> 0 | AD93: ='Datos Club'!$L$61 -> 0 | AI93: =AI92 -> 0 | AJ93: F | AK93: 8ª
AM95: Número de pruebas a NADAR
Y97: ='Datos Club'!$L$59 -> 0 | AD97: ='Datos Club'!$L$61 -> 0 | AJ97: F | AK97: 1ª
C98: =$C$97 -> 0 | G98: =$G$97 -> 0 | M98: =$M$97 -> 0 | W98: =$W$97 -> 0 | Y98: ='Datos Club'!$L$59 -> 0 | AD98: ='Datos Club'!$L$61 -> 0 | AI98: =AI97 -> 0 | AJ98: F | AK98: 2ª
C99: =$C$97 -> 0 | G99: =$G$97 -> 0 | M99: =$M$97 -> 0 | W99: =$W$97 -> 0 | Y99: ='Datos Club'!$L$59 -> 0 | AD99: ='Datos Club'!$L$61 -> 0 | AI99: =AI98 -> 0 | AJ99: F | AK99: 3ª
C100: =$C$97 -> 0 | G100: =$G$97 -> 0 | M100: =$M$97 -> 0 | W100: =$W$97 -> 0 | Y100: ='Datos Club'!$L$59 -> 0 | AD100: ='Datos Club'!$L$61 -> 0 | AI100: =AI99 -> 0 | AJ100: F | AK100: 4ª
C101: =$C$97 -> 0 | G101: =$G$97 -> 0 | M101: =$M$97 -> 0 | W101: =$W$97 -> 0 | Y101: ='Datos Club'!$L$59 -> 0 | AD101: ='Datos Club'!$L$61 -> 0 | AI101: =AI100 -> 0 | AJ101: F | AK101: 5ª
C102: =$C$97 -> 0 | G102: =$G$97 -> 0 | M102: =$M$97 -> 0 | W102: =$W$97 -> 0 | Y102: ='Datos Club'!$L$59 -> 0 | AD102: ='Datos Club'!$L$61 -> 0 | AI102: =AI101 -> 0 | AJ102: F | AK102: 6ª
C103: =$C$97 -> 0 | G103: =$G$97 -> 0 | M103: =$M$97 -> 0 | W103: =$W$97 -> 0 | Y103: ='Datos Club'!$L$59 -> 0 | AD103: ='Datos Club'!$L$61 -> 0 | AI103: =AI102 -> 0 | AJ103: F | AK103: 7ª
C104: =$C$97 -> 0 | G104: =$G$97 -> 0 | M104: =$M$97 -> 0 | W104: =$W$97 -> 0 | Y104: ='Datos Club'!$L$59 -> 0 | AD104: ='Datos Club'!$L$61 -> 0 | AI104: =AI103 -> 0 | AJ104: F | AK104: 8ª
AM106: Número de pruebas a NADAR
Y108: ='Datos Club'!$L$59 -> 0 | AD108: ='Datos Club'!$L$61 -> 0 | AJ108: F | AK108: 1ª
C109: =$C$108 -> 0 | G109: =$G$108 -> 0 | M109: =$M$108 -> 0 | W109: =$W$108 -> 0 | Y109: ='Datos Club'!$L$59 -> 0 | AD109: ='Datos Club'!$L$61 -> 0 | AI109: =AI108 -> 0 | AJ109: F | AK109: 2ª
C110: =$C$108 -> 0 | G110: =$G$108 -> 0 | M110: =$M$108 -> 0 | W110: =$W$108 -> 0 | Y110: ='Datos Club'!$L$59 -> 0 | AD110: ='Datos Club'!$L$61 -> 0 | AI110: =AI109 -> 0 | AJ110: F | AK110: 3ª
C111: =$C$108 -> 0 | G111: =$G$108 -> 0 | M111: =$M$108 -> 0 | W111: =$W$108 -> 0 | Y111: ='Datos Club'!$L$59 -> 0 | AD111: ='Datos Club'!$L$61 -> 0 | AI111: =AI110 -> 0 | AJ111: F | AK111: 4ª
C112: =$C$108 -> 0 | G112: =$G$108 -> 0 | M112: =$M$108 -> 0 | W112: =$W$108 -> 0 | Y112: ='Datos Club'!$L$59 -> 0 | AD112: ='Datos Club'!$L$61 -> 0 | AI112: =AI111 -> 0 | AJ112: F | AK112: 5ª
C113: =$C$108 -> 0 | G113: =$G$108 -> 0 | M113: =$M$108 -> 0 | W113: =$W$108 -> 0 | Y113: ='Datos Club'!$L$59 -> 0 | AD113: ='Datos Club'!$L$61 -> 0 | AI113: =AI112 -> 0 | AJ113: F | AK113: 6ª
C114: =$C$108 -> 0 | G114: =$G$108 -> 0 | M114: =$M$108 -> 0 | W114: =$W$108 -> 0 | Y114: ='Datos Club'!$L$59 -> 0 | AD114: ='Datos Club'!$L$61 -> 0 | AI114: =AI113 -> 0 | AJ114: F | AK114: 7ª
C115: =$C$108 -> 0 | G115: =$G$108 -> 0 | M115: =$M$108 -> 0 | W115: =$W$108 -> 0 | Y115: ='Datos Club'!$L$59 -> 0 | AD115: ='Datos Club'!$L$61 -> 0 | AI115: =AI114 -> 0 | AJ115: F | AK115: 8ª
AM117: Número de pruebas a NADAR
Y119: ='Datos Club'!$L$59 -> 0 | AD119: ='Datos Club'!$L$61 -> 0 | AJ119: F | AK119: 1ª
C120: =$C$119 -> 0 | G120: =$G$119 -> 0 | M120: =$M$119 -> 0 | W120: =$W$119 -> 0 | Y120: ='Datos Club'!$L$59 -> 0 | AD120: ='Datos Club'!$L$61 -> 0 | AI120: =AI119 -> 0 | AJ120: F | AK120: 2ª
C121: =$C$119 -> 0 | G121: =$G$119 -> 0 | M121: =$M$119 -> 0 | W121: =$W$119 -> 0 | Y121: ='Datos Club'!$L$59 -> 0 | AD121: ='Datos Club'!$L$61 -> 0 | AI121: =AI120 -> 0 | AJ121: F | AK121: 3ª
C122: =$C$119 -> 0 | G122: =$G$119 -> 0 | M122: =$M$119 -> 0 | W122: =$W$119 -> 0 | Y122: ='Datos Club'!$L$59 -> 0 | AD122: ='Datos Club'!$L$61 -> 0 | AI122: =AI121 -> 0 | AJ122: F | AK122: 4ª
C123: =$C$119 -> 0 | G123: =$G$119 -> 0 | M123: =$M$119 -> 0 | W123: =$W$119 -> 0 | Y123: ='Datos Club'!$L$59 -> 0 | AD123: ='Datos Club'!$L$61 -> 0 | AI123: =AI122 -> 0 | AJ123: F | AK123: 5ª
C124: =$C$119 -> 0 | G124: =$G$119 -> 0 | M124: =$M$119 -> 0 | W124: =$W$119 -> 0 | Y124: ='Datos Club'!$L$59 -> 0 | AD124: ='Datos Club'!$L$61 -> 0 | AI124: =AI123 -> 0 | AJ124: F | AK124: 6ª
C125: =$C$119 -> 0 | G125: =$G$119 -> 0 | M125: =$M$119 -> 0 | W125: =$W$119 -> 0 | Y125: ='Datos Club'!$L$59 -> 0 | AD125: ='Datos Club'!$L$61 -> 0 | AI125: =AI124 -> 0 | AJ125: F | AK125: 7ª
...

Sheet RELEVOS
AH1: Sénior | AI1: 13 | AJ1: M | AK1: 4x100 SB
AH2: Pre-Sénior | AI2: 32 | AJ2: F | AK2: 4x100 SF
AI3: 45
B7: Nombre: | G7: ='Datos Club'!L65 -> 0 | AM7: Nombre: | AR7: ='Datos Club'!L72 -> 0
B8: Dni / Licencia: | G8: ='Datos Club'!L66 -> 0 | AM8: Dni / Licencia: | AR8: ='Datos Club'!L73 -> 0
B9: E-mail: | G9: ='Datos Club'!L67 -> 0 | U9: Club: | Z9: ='Datos Club'!L59 -> 0 | AM9: E-mail: | AR9: ='Datos Club'!L74 -> 0
B10: Tel. Contacto: | G10: ='Datos Club'!L68 -> 0 | U10: Federación: | Z10: ='Datos Club'!L61 -> 0 | AM10: Tel. Contacto: | AR10: ='Datos Club'!L75 -> 0
R15: Control: | U15: ='Datos Club'!H52 -> 0
C17: D.N.I. | G17: Nombre | M17: Apellidos | W17: Año | Y17: Club | AD17: Federación | AI17: Categoría | AJ17: S | AK17: Prueba | AX17: Tiempo de Ranking
AX18: mm | AZ18: ss | BB18: 1/100
Y20: ='Datos Club'!$L$59 -> 0 | AD20: ='Datos Club'!$L$61 -> 0 | AJ20: M | AK20: 4x100 SB
Y21: ='Datos Club'!$L$59 -> 0 | AD21: ='Datos Club'!$L$61 -> 0 | AJ21: F
Y22: ='Datos Club'!$L$59 -> 0 | AD22: ='Datos Club'!$L$61 -> 0 | AJ22: M
Y23: ='Datos Club'!$L$59 -> 0 | AD23: ='Datos Club'!$L$61 -> 0 | AJ23: F
Y25: ='Datos Club'!$L$59 -> 0 | AD25: ='Datos Club'!$L$61 -> 0 | AJ25: M | AK25: 4x100 SB
Y26: ='Datos Club'!$L$59 -> 0 | AD26: ='Datos Club'!$L$61 -> 0 | AJ26: F
Y27: ='Datos Club'!$L$59 -> 0 | AD27: ='Datos Club'!$L$61 -> 0 | AJ27: M
Y28: ='Datos Club'!$L$59 -> 0 | AD28: ='Datos Club'!$L$61 -> 0 | AJ28: F
