Workbook

Sheet Datos Club
L1: AC Xaloc
L2: AD San Juan
L3: ADS Casablanca
L4: AE Bellsport
L5: Apnea Sevilla
L6: C Nereida Sub
L7: C Swim 04
L8: C Tritón EB
L9: CAA Baixo Miño
L10: CADAS
L11: CAS Kalista
L12: CB Galatea
... L45: FNDAS
E52: Control:
G59: Club:
G60: E-mail:
G61: Federación:
G65: Nombre:
G66: Dni / Licencia:
G67: E-mail:
G68: Tel. Contacto:
G72: Nombre:
G73: Dni / Licencia:
G74: E-mail:
G75: Tel. Contacto:
G79: Nombre:
... G82: Tel. Contacto:

Sheet Masculino
Z1: 1 | AH1: Pre-Sénior | AI1: 4 | AJ1: 25 | AK1: 50m SF
Z2: 2 | AH2: Sénior | AI2: 15 | AJ2: 36 | AK2: 100m SF
Z3: 3 | AI3: 8 | AJ3: 29 | AK3: 200m SF
AJ4: 21 | AK4: 400m SF
AJ5: 40 | AK5: 800m SF
AK6: 1500m SF
AI7: 6 | AJ7: 27 | AK7: 50m BF
AI8: 17 | AJ8: 38 | AK8: 100m BF
AI9: 10 | AJ9: 31 | AK9: 200m BF
AJ10: 42 | AK10: 400m BF
AI11: 19 | AJ11: 44 | AK11: 50m AP
AI12: 2 | AJ12: 23 | AK12: 100m IM
AJ13: 34 | AK13: 200m IM
AJ14: 12 | AK14: 400m IM
B18: Nombre: | G18: ='Datos Club'!L65 -> 0 | AN18: Nombre: | AS18: ='Datos Club'!L72 -> 0
B19: Dni / Licencia: | G19: ='Datos Club'!L66 -> 0 | AN19: Dni / Licencia: | AS19: ='Datos Club'!L73 -> 0
B20: E-mail: | G20: ='Datos Club'!L67 -> 0 | U20: Club: | Z20: ='Datos Club'!L59 -> 0 | AN20: E-mail: | AS20: ='Datos Club'!L74 -> 0
B21: Tel. Contacto: | G21: ='Datos Club'!L68 -> 0 | U21: Federación: | Z21: ='Datos Club'!L61 -> 0 | AN21: Tel. Contacto: | AS21: ='Datos Club'!L75 -> 0
R26: Control: | U26: ='Datos Club'!H52 -> 0
C28: D.N.I. | G28: Nombre | M28: Apellidos | W28: Año | Y28: Club | AD28: Federación | AI28: Categoría | AL28: Prueba | AY28: Tiempo de Ranking
AY29: mm | BA29: ss | BC29: 1/100
Y31: ='Datos Club'!$L$59 -> 0 | AD31: ='Datos Club'!$L$61 -> 0 | AJ31: M | AK31: 1ª
C32: =$C$31 -> 0 | G32: =$G$31 -> 0 | M32: =$M$31 -> 0 | W32: =$W$31 -> 0 | Y32: ='Datos Club'!$L$59 -> 0 | AD32: ='Datos Club'!$L$61 -> 0 | AI32: =AI31 -> 0 | AJ32: M | AK32: 2ª
C33: =$C$31 -> 0 | G33: =$G$31 -> 0 | M33: =$M$31 -> 0 | W33: =$W$31 -> 0 | Y33: ='Datos Club'!$L$59 -> 0 | AD33: ='Datos Club'!$L$61 -> 0 | AI33: =AI32 -> 0 | AJ33: M | AK33: 3ª
C34: =$C$31 -> 0 | G34: =$G$31 -> 0 | M34: =$M$31 -> 0 | W34: =$W$31 -> 0 | Y34: ='Datos Club'!$L$59 -> 0 | AD34: ='Datos Club'!$L$61 -> 0 | AI34: =AI33 -> 0 | AJ34: M | AK34: 4ª
C35: =$C$31 -> 0 | G35: =$G$31 -> 0 | M35: =$M$31 -> 0 | W35: =$W$31 -> 0 | Y35: ='Datos Club'!$L$59 -> 0 | AD35: ='Datos Club'!$L$61 -> 0 | AI35: =AI34 -> 0 | AJ35: M | AK35: 5ª
C36: =$C$31 -> 0 | G36: =$G$31 -> 0 | M36: =$M$31 -> 0 | W36: =$W$31 -> 0 | Y36: ='Datos Club'!$L$59 -> 0 | AD36: ='Datos Club'!$L$61 -> 0 | AI36: =AI35 -> 0 | AJ36: M | AK36: 6ª
C37: =$C$31 -> 0 | G37: =$G$31 -> 0 | M37: =$M$31 -> 0 | W37: =$W$31 -> 0 | Y37: ='Datos Club'!$L$59 -> 0 | AD37: ='Datos Club'!$L$61 -> 0 | AI37: =AI36 -> 0 | AJ37: M | AK37: 7ª
C38: =$C$31 -> 0 | G38: =$G$31 -> 0 | M38: =$M$31 -> 0 | W38: =$W$31 -> 0 | Y38: ='Datos Club'!$L$59 -> 0 | AD38: ='Datos Club'!$L$61 -> 0 | AI38: =AI37 -> 0 | AJ38: M | AK38: 8ª
AM40: Número de pruebas a NADAR
Y42: ='Datos Club'!$L$59 -> 0 | AD42: ='Datos Club'!$L$61 -> 0 | AJ42: M | AK42: 1ª
C43: =$C$42 -> 0 | G43: =$G$42 -> 0 | M43: =$M$42 -> 0 | W43: =$W$42 -> 0 | Y43: ='Datos Club'!$L$59 -> 0 | AD43: ='Datos Club'!$L$61 -> 0 | AI43: =AI42 -> 0 | AJ43: M | AK43: 2ª
C44: =$C$42 -> 0 | G44: =$G$42 -> 0 | M44: =$M$42 -> 0 | W44: =$W$42 -> 0 | Y44: ='Datos Club'!$L$59 -> 0 | AD44: ='Datos Club'!$L$61 -> 0 | AI44: =AI43 -> 0 | AJ44: M | AK44: 3ª
C45: =$C$42 -> 0 | G45: =$G$42 -> 0 | M45: =$M$42 -> 0 | W45: =$W$42 -> 0 | Y45: ='Datos Club'!$L$59 -> 0 | AD45: ='Datos Club'!$L$61 -> 0 | AI45: =AI44 -> 0 | AJ45: M | AK45: 4ª
C46: =$C$42 -> 0 | G46: =$G$42 -> 0 | M46: =$M$42 -> 0 | W46: =$W$42 -> 0 | Y46: ='Datos Club'!$L$59 -> 0 | AD46: ='Datos Club'!$L$61 -> 0 | AI46: =AI45 -> 0 | AJ46: M | AK46: 5ª
C47: =$C$42 -> 0 | G47: =$G$42 -> 0 | M47: =$M$42 -> 0 | W47: =$W$42 -> 0 | Y47: ='Datos Club'!$L$59 -> 0 | AD47: ='Datos Club'!$L$61 -> 0 | AI47: =AI46 -> 0 | AJ47: M | AK47: 6ª
C48: =$C$42 -> 0 | G48: =$G$42 -> 0 | M48: =$M$42 -> 0 | W48: =$W$42 -> 0 | Y48: ='Datos Club'!$L$59 -> 0 | AD48: ='Datos Club'!$L$61 -> 0 | AI48: =AI47 -> 0 | AJ48: M | AK48: 7ª
C49: =$C$42 -> 0 | G49: =$G$42 -> 0 | M49: =$M$42 -> 0 | W49: =$W$42 -> 0 | Y49: ='Datos Club'!$L$59 -> 0 | AD49: ='Datos Club'!$L$61 -> 0 | AI49: =AI48 -> 0 | AJ49: M | AK49: 8ª
AM51: Número de pruebas a NADAR
Y53: ='Datos Club'!$L$59 -> 0 | AD53: ='Datos Club'!$L$61 -> 0 | AJ53: M | AK53: 1ª
...

Sheet Femenino
Z1: 1 | AH1: Pre-Sénior | AI1: 4 | AJ1: 25 | AK1: 50m SF
Z2: 2 | AH2: Sénior | AI2: 15 | AJ2: 36 | AK2: 100m SF
Z3: 3 | AI3: 8 | AJ3: 29 | AK3: 200m SF
AJ4: 21 | AK4: 400m SF
AJ5: 40 | AK5: 800m SF
AK6: 1500m SF
AI7: 6 | AJ7: 27 | AK7: 50m BF
AI8: 17 | AJ8: 38 | AK8: 100m BF
AI9: 10 | AJ9: 31 | AK9: 200m BF
AJ10: 42 | AK10: 400m BF
AI11: 19 | AJ11: 44 | AK11: 50m AP
AI12: 2 | AJ12: 23 | AK12: 100m IM
AJ13: 34 | AK13: 200m IM
AJ14: 12 | AK14: 400m IM
B18: Nombre: | G18: ='Datos Club'!L65 -> 0 | AN18: Nombre: | AS18: ='Datos Club'!L72 -> 0
B19: Dni / Licencia: | G19: ='Datos Club'!L66 -> 0 | AN19: Dni / Licencia: | AS19: ='Datos Club'!L73 -> 0
B20: E-mail: | G20: ='Datos Club'!L67 -> 0 | U20: Club: | Z20: ='Datos Club'!L59 -> 0 | AN20: E-mail: | AS20: ='Datos Club'!L74 -> 0
B21: Tel. Contacto: | G21: ='Datos Club'!L68 -> 0 | U21: Federación: | Z21: ='Datos Club'!L61 -> 0 | AN21: Tel. Contacto: | AS21: ='Datos Club'!L75 -> 0
R26: Control: | U26: ='Datos Club'!H52 -> 0
C28: D.N.I. | G28: Nombre | M28: Apellidos | W28: Año | Y28: Club | AD28: Federación | AI28: Categoría | AL28: Prueba | AY28: Tiempo de Ranking
AY29: mm | BA29: ss | BC29: 1/100
Y31: ='Datos Club'!$L$59 -> 0 | AD31: ='Datos Club'!$L$61 -> 0 | AJ31: F | AK31: 1ª
C32: =$C$31 -> 0 | G32: =$G$31 -> 0 | M32: =$M$31 -> 0 | W32: =$W$31 -> 0 | Y32: ='Datos Club'!$L$59 -> 0 | AD32: ='Datos Club'!$L$61 -> 0 | AI32: =AI31 -> 0 | AJ32: F | AK32: 2ª
C33: =$C$31 -> 0 | G33: =$G$31 -> 0 | M33: =$M$31 -> 0 | W33: =$W$31 -> 0 | Y33: ='Datos Club'!$L$59 -> 0 | AD33: ='Datos Club'!$L$61 -> 0 | AI33: =AI32 -> 0 | AJ33: F | AK33: 3ª
C34: =$C$31 -> 0 | G34: =$G$31 -> 0 | M34: =$M$31 -> 0 | W34: =$W$31 -> 0 | Y34: ='Datos Club'!$L$59 -> 0 | AD34: ='Datos Club'!$L$61 -> 0 | AI34: =AI33 -> 0 | AJ34: F | AK34: 4ª
C35: =$C$31 -> 0 | G35: =$G$31 -> 0 | M35: =$M$31 -> 0 | W35: =$W$31 -> 0 | Y35: ='Datos Club'!$L$59 -> 0 | AD35: ='Datos Club'!$L$61 -> 0 | AI35: =AI34 -> 0 | AJ35: F | AK35: 5ª
C36: =$C$31 -> 0 | G36: =$G$31 -> 0 | M36: =$M$31 -> 0 | W36: =$W$31 -> 0 | Y36: ='Datos Club'!$L$59 -> 0 | AD36: ='Datos Club'!$L$61 -> 0 | AI36: =AI35 -> 0 | AJ36: F | AK36: 6ª
C37: =$C$31 -> 0 | G37: =$G$31 -> 0 | M37: =$M$31 -> 0 | W37: =$W$31 -> 0 | Y37: ='Datos Club'!$L$59 -> 0 | AD37: ='Datos Club'!$L$61 -> 0 | AI37: =AI36 -> 0 | AJ37: F | AK37: 7ª
C38: =$C$31 -> 0 | G38: =$G$31 -> 0 | M38: =$M$31 -> 0 | W38: =$W$31 -> 0 | Y38: ='Datos Club'!$L$59 -> 0 | AD38: ='Datos Club'!$L$61 -> 0 | AI38: =AI37 -> 0 | AJ38: F | AK38: 8ª
AM40: Número de pruebas a NADAR
Y42: ='Datos Club'!$L$59 -> 0 | AD42: ='Datos Club'!$L$61 -> 0 | AJ42: F | AK42: 1ª
C43: =$C$42 -> 0 | G43: =$G$42 -> 0 | M43: =$M$42 -> 0 | W43: =$W$42 -> 0 | Y43: ='Datos Club'!$L$59 -> 0 | AD43: ='Datos Club'!$L$61 -> 0 | AI43: =AI42 -> 0 | AJ43: F | AK43: 2ª
C44: =$C$42 -> 0 | G44: =$G$42 -> 0 | M44: =$M$42 -> 0 | W44: =$W$42 -> 0 | Y44: ='Datos Club'!$L$59 -> 0 | AD44: ='Datos Club'!$L$61 -> 0 | AI44: =AI43 -> 0 | AJ44: F | AK44: 3ª
C45: =$C$42 -> 0 | G45: =$G$42 -> 0 | M45: =$M$42 -> 0 | W45: =$W$42 -> 0 | Y45: ='Datos Club'!$L$59 -> 0 | AD45: ='Datos Club'!$L$61 -> 0 | AI45: =AI44 -> 0 | AJ45: F | AK45: 4ª
C46: =$C$42 -> 0 | G46: =$G$42 -> 0 | M46: =$M$42 -> 0 | W46: =$W$42 -> 0 | Y46: ='Datos Club'!$L$59 -> 0 | AD46: ='Datos Club'!$L$61 -> 0 | AI46: =AI45 -> 0 | AJ46: F | AK46: 5ª
C47: =$C$42 -> 0 | G47: =$G$42 -> 0 | M47: =$M$42 -> 0 | W47: =$W$42 -> 0 | Y47: ='Datos Club'!$L$59 -> 0 | AD47: ='Datos Club'!$L$61 -> 0 | AI47: =AI46 -> 0 | AJ47: F | AK47: 6ª
C48: =$C$42 -> 0 | G48: =$G$42 -> 0 | M48: =$M$42 -> 0 | W48: =$W$42 -> 0 | Y48: ='Datos Club'!$L$59 -> 0 | AD48: ='Datos Club'!$L$61 -> 0 | AI48: =AI47 -> 0 | AJ48: F | AK48: 7ª
C49: =$C$42 -> 0 | G49: =$G$42 -> 0 | M49: =$M$42 -> 0 | W49: =$W$42 -> 0 | Y49: ='Datos Club'!$L$59 -> 0 | AD49: ='Datos Club'!$L$61 -> 0 | AI49: =AI48 -> 0 | AJ49: F | AK49: 8ª
AM51: Número de pruebas a NADAR
Y53: ='Datos Club'!$L$59 -> 0 | AD53: ='Datos Club'!$L$61 -> 0 | AJ53: F | AK53: 1ª
...

Sheet RELEVOS
AH1: Sénior | AI1: 13 | AJ1: M | AK1: 4x100 SB
AH2: Pre-Sénior | AI2: 32 | AJ2: F | AK2: 4x100 SF
AI3: 45
B7: Nombre: | G7: ='Datos Club'!L65 -> 0 | AM7: Nombre: | AR7: ='Datos Club'!L72 -> 0
B8: Dni / Licencia: | G8: ='Datos Club'!L66 -> 0 | AM8: Dni / Licencia: | AR8: ='Datos Club'!L73 -> 0
B9: E-mail: | G9: ='Datos Club'!L67 -> 0 | U9: Club: | Z9: ='Datos Club'!L59 -> 0 | AM9: E-mail: | AR9: ='Datos Club'!L74 -> 0
B10: Tel. Contacto: | G10: ='Datos Club'!L68 -> 0 | U10: Federación: | Z10: ='Datos Club'!L61 -> 0 | AM10: Tel. Contacto: | AR10: ='Datos Club'!L75 -> 0
R15: Control: | U15: ='Datos Club'!H52 -> 0
C17: D.N.I. | G17: Nombre | M17: Apellidos | W17: Año | Y17: Club | AD17: Federación | AI17: Categoría | AJ17: S | AK17: Prueba | AX17: Tiempo de Ranking
AX18: mm | AZ18: ss | BB18: 1/100
Y20: ='Datos Club'!$L$59 -> 0 | AD20: ='Datos Club'!$L$61 -> 0 | AJ20: M | AK20: 4x100 SB
Y21: ='Datos Club'!$L$59 -> 0 | AD21: ='Datos Club'!$L$61 -> 0 | AJ21: F
Y22: ='Datos Club'!$L$59 -> 0 | AD22: ='Datos Club'!$L$61 -> 0 | AJ22: M
Y23: ='Datos Club'!$L$59 -> 0 | AD23: ='Datos Club'!$L$61 -> 0 | AJ23: F
Y25: ='Datos Club'!$L$59 -> 0 | AD25: ='Datos Club'!$L$61 -> 0 | AJ25: M | AK25: 4x100 SB
Y26: ='Datos Club'!$L$59 -> 0 | AD26: ='Datos Club'!$L$61 -> 0 | AJ26: F
Y27: ='Datos Club'!$L$59 -> 0 | AD27: ='Datos Club'!$L$61 -> 0 | AJ27: M
Y28: ='Datos Club'!$L$59 -> 0 | AD28: ='Datos Club'!$L$61 -> 0 | AJ28: F
